BEGIN:VCALENDAR
VERSION:2.0
PRODID:-//Nitrous Oxide Courses - ECPv6.15.19//NONSGML v1.0//EN
CALSCALE:GREGORIAN
METHOD:PUBLISH
X-WR-CALNAME:Nitrous Oxide Courses
X-ORIGINAL-URL:https://nitrousoxidecourse.com.au
X-WR-CALDESC:Events for Nitrous Oxide Courses
REFRESH-INTERVAL;VALUE=DURATION:PT1H
X-Robots-Tag:noindex
X-PUBLISHED-TTL:PT1H
BEGIN:VTIMEZONE
TZID:Australia/Sydney
BEGIN:STANDARD
TZOFFSETFROM:+1100
TZOFFSETTO:+1000
TZNAME:AEST
DTSTART:20240406T160000
END:STANDARD
BEGIN:DAYLIGHT
TZOFFSETFROM:+1000
TZOFFSETTO:+1100
TZNAME:AEDT
DTSTART:20241005T160000
END:DAYLIGHT
BEGIN:STANDARD
TZOFFSETFROM:+1100
TZOFFSETTO:+1000
TZNAME:AEST
DTSTART:20250405T160000
END:STANDARD
BEGIN:DAYLIGHT
TZOFFSETFROM:+1000
TZOFFSETTO:+1100
TZNAME:AEDT
DTSTART:20251004T160000
END:DAYLIGHT
BEGIN:STANDARD
TZOFFSETFROM:+1100
TZOFFSETTO:+1000
TZNAME:AEST
DTSTART:20260404T160000
END:STANDARD
BEGIN:DAYLIGHT
TZOFFSETFROM:+1000
TZOFFSETTO:+1100
TZNAME:AEDT
DTSTART:20261003T160000
END:DAYLIGHT
END:VTIMEZONE
BEGIN:VTIMEZONE
TZID:Australia/Brisbane
BEGIN:STANDARD
TZOFFSETFROM:+1000
TZOFFSETTO:+1000
TZNAME:AEST
DTSTART:20240101T000000
END:STANDARD
END:VTIMEZONE
BEGIN:VEVENT
DTSTART;TZID=Australia/Sydney:20250601T083000
DTEND;TZID=Australia/Sydney:20250601T120000
DTSTAMP:20260421T182415
CREATED:20240718T001155Z
LAST-MODIFIED:20250606T055427Z
UID:10000053-1748766600-1748779200@nitrousoxidecourse.com.au
SUMMARY:Silhouette Course Adelaide June 2025
DESCRIPTION:To book this event\, please go to ADA website HERE
URL:https://nitrousoxidecourse.com.au/course/silhouette-course-adelaide-june-2025/
LOCATION:ADA South Australia Branch\, 62 King WiliamRoad\, Goodwood\,\, South Australia\, 5034\, Australia
CATEGORIES:Nitrous Oxide Courses
ATTACH;FMTTYPE=image/jpeg:https://nitrousoxidecourse.com.au/wp-content/uploads/2022/10/Silhouette-Course-scaled.jpg
END:VEVENT
BEGIN:VEVENT
DTSTART;TZID=Australia/Brisbane:20250621T080000
DTEND;TZID=Australia/Brisbane:20250621T163000
DTSTAMP:20260421T182415
CREATED:20240718T001934Z
LAST-MODIFIED:20250606T054907Z
UID:10000054-1750492800-1750523400@nitrousoxidecourse.com.au
SUMMARY:Nitrous Oxide Sydney June 2025
DESCRIPTION:
URL:https://nitrousoxidecourse.com.au/course/nitrous-oxide-sydney-june-2025/
LOCATION:A-dec Australia\, Unit 8/5-9 Ricketty St\, Mascot\, New South Wales\, 2020\, Australia
CATEGORIES:Nitrous Oxide Courses
ATTACH;FMTTYPE=image/jpeg:https://nitrousoxidecourse.com.au/wp-content/uploads/2022/10/Nitrous-Oxide-Symposium.jpg
END:VEVENT
END:VCALENDAR